BEGIN:VCALENDAR
VERSION:2.0
PRODID:-//Boyer &amp; Associates - ECPv6.15.20//NONSGML v1.0//EN
CALSCALE:GREGORIAN
METHOD:PUBLISH
X-WR-CALNAME:Boyer &amp; Associates
X-ORIGINAL-URL:https://www.boyerassoc.com
X-WR-CALDESC:Events for Boyer &amp; Associates
REFRESH-INTERVAL;VALUE=DURATION:PT1H
X-Robots-Tag:noindex
X-PUBLISHED-TTL:PT1H
BEGIN:VTIMEZONE
TZID:America/Chicago
BEGIN:DAYLIGHT
TZOFFSETFROM:-0600
TZOFFSETTO:-0500
TZNAME:CDT
DTSTART:20220313T080000
END:DAYLIGHT
BEGIN:STANDARD
TZOFFSETFROM:-0500
TZOFFSETTO:-0600
TZNAME:CST
DTSTART:20221106T070000
END:STANDARD
BEGIN:DAYLIGHT
TZOFFSETFROM:-0600
TZOFFSETTO:-0500
TZNAME:CDT
DTSTART:20230312T080000
END:DAYLIGHT
BEGIN:STANDARD
TZOFFSETFROM:-0500
TZOFFSETTO:-0600
TZNAME:CST
DTSTART:20231105T070000
END:STANDARD
BEGIN:DAYLIGHT
TZOFFSETFROM:-0600
TZOFFSETTO:-0500
TZNAME:CDT
DTSTART:20240310T080000
END:DAYLIGHT
BEGIN:STANDARD
TZOFFSETFROM:-0500
TZOFFSETTO:-0600
TZNAME:CST
DTSTART:20241103T070000
END:STANDARD
END:VTIMEZONE
BEGIN:VEVENT
DTSTART;VALUE=DATE:20231128
DTEND;VALUE=DATE:20231215
DTSTAMP:20260423T050933
CREATED:20230104T173645Z
LAST-MODIFIED:20231101T203406Z
UID:10000057-1701129600-1702598399@www.boyerassoc.com
SUMMARY:Power Platform Boot Camp
DESCRIPTION:This hands-on training covers the primary functions of Microsoft’s Power Platform. Attendees will walk away ready to begin building Power Platform-based solutions for their business problems. \nAttendees will be provided with hands-on lab materials that walk through the same exercises we cover in class to help with retention. Sessions are from noon to 4 p.m. and spread out over two weeks. This gives attendees time to practice what they’ve learned and come back with any questions. \nCost for this four-day training with a Microsoft-certified instructor is $2\,000. Once we receive your registration request\, we will contact you to process payment and approve entry into the class. \n\n\nSign Up Now
URL:https://www.boyerassoc.com/event/power-platform-boot-camp/
LOCATION:Online
ATTACH;FMTTYPE=image/png:https://www.boyerassoc.com/wp-content/uploads/2023/01/Power-Platform-Boot-Camp.png
END:VEVENT
END:VCALENDAR