BEGIN:VCALENDAR
VERSION:2.0
PRODID:-//Boyer &amp; Associates - ECPv6.15.20//NONSGML v1.0//EN
CALSCALE:GREGORIAN
METHOD:PUBLISH
X-ORIGINAL-URL:https://www.boyerassoc.com
X-WR-CALDESC:Events for Boyer &amp; Associates
REFRESH-INTERVAL;VALUE=DURATION:PT1H
X-Robots-Tag:noindex
X-PUBLISHED-TTL:PT1H
BEGIN:VTIMEZONE
TZID:America/Chicago
BEGIN:DAYLIGHT
TZOFFSETFROM:-0600
TZOFFSETTO:-0500
TZNAME:CDT
DTSTART:20210314T080000
END:DAYLIGHT
BEGIN:STANDARD
TZOFFSETFROM:-0500
TZOFFSETTO:-0600
TZNAME:CST
DTSTART:20211107T070000
END:STANDARD
BEGIN:DAYLIGHT
TZOFFSETFROM:-0600
TZOFFSETTO:-0500
TZNAME:CDT
DTSTART:20220313T080000
END:DAYLIGHT
BEGIN:STANDARD
TZOFFSETFROM:-0500
TZOFFSETTO:-0600
TZNAME:CST
DTSTART:20221106T070000
END:STANDARD
BEGIN:DAYLIGHT
TZOFFSETFROM:-0600
TZOFFSETTO:-0500
TZNAME:CDT
DTSTART:20230312T080000
END:DAYLIGHT
BEGIN:STANDARD
TZOFFSETFROM:-0500
TZOFFSETTO:-0600
TZNAME:CST
DTSTART:20231105T070000
END:STANDARD
END:VTIMEZONE
BEGIN:VEVENT
DTSTART;TZID=America/Chicago:20220512T090000
DTEND;TZID=America/Chicago:20220512T153000
DTSTAMP:20260420T114442
CREATED:20220504T142636Z
LAST-MODIFIED:20220504T142636Z
UID:10000053-1652346000-1652369400@www.boyerassoc.com
SUMMARY:Dynamics 365 Business Central & NAV Client Event
DESCRIPTION:Boyer & Associates’ annual client events help you make the most of your investment in Microsoft software. Our Dynamics 365 Business Central & NAV Client Event is just around the corner and will cover the following: \n\nThe latest features in the spring 2022 release of Business Central\nA look at how you can integrate your ERP and CRM solutions\nPower Platform solutions for BC and NAV\nTips and tricks to making the most of your ERP solution\n\nJoin us for four education-filled online sessions. \nRegister Now
URL:https://www.boyerassoc.com/event/dynamics-bc-nav-client-event/
LOCATION:Online
ATTACH;FMTTYPE=image/png:https://www.boyerassoc.com/wp-content/uploads/2022/05/BC-NAV-client-event-image.png
END:VEVENT
END:VCALENDAR