BEGIN:VCALENDAR
VERSION:2.0
PRODID:-//Boyer &amp; Associates - ECPv6.15.20//NONSGML v1.0//EN
CALSCALE:GREGORIAN
METHOD:PUBLISH
X-ORIGINAL-URL:https://www.boyerassoc.com
X-WR-CALDESC:Events for Boyer &amp; Associates
REFRESH-INTERVAL;VALUE=DURATION:PT1H
X-Robots-Tag:noindex
X-PUBLISHED-TTL:PT1H
BEGIN:VTIMEZONE
TZID:America/Chicago
BEGIN:DAYLIGHT
TZOFFSETFROM:-0600
TZOFFSETTO:-0500
TZNAME:CDT
DTSTART:20220313T080000
END:DAYLIGHT
BEGIN:STANDARD
TZOFFSETFROM:-0500
TZOFFSETTO:-0600
TZNAME:CST
DTSTART:20221106T070000
END:STANDARD
BEGIN:DAYLIGHT
TZOFFSETFROM:-0600
TZOFFSETTO:-0500
TZNAME:CDT
DTSTART:20230312T080000
END:DAYLIGHT
BEGIN:STANDARD
TZOFFSETFROM:-0500
TZOFFSETTO:-0600
TZNAME:CST
DTSTART:20231105T070000
END:STANDARD
BEGIN:DAYLIGHT
TZOFFSETFROM:-0600
TZOFFSETTO:-0500
TZNAME:CDT
DTSTART:20240310T080000
END:DAYLIGHT
BEGIN:STANDARD
TZOFFSETFROM:-0500
TZOFFSETTO:-0600
TZNAME:CST
DTSTART:20241103T070000
END:STANDARD
END:VTIMEZONE
BEGIN:VEVENT
DTSTART;VALUE=DATE:20231128
DTEND;VALUE=DATE:20231215
DTSTAMP:20260425T072653
CREATED:20230104T173645Z
LAST-MODIFIED:20231101T203406Z
UID:10000057-1701129600-1702598399@www.boyerassoc.com
SUMMARY:Power Platform Boot Camp
DESCRIPTION:This hands-on training covers the primary functions of Microsoft’s Power Platform. Attendees will walk away ready to begin building Power Platform-based solutions for their business problems. \nAttendees will be provided with hands-on lab materials that walk through the same exercises we cover in class to help with retention. Sessions are from noon to 4 p.m. and spread out over two weeks. This gives attendees time to practice what they’ve learned and come back with any questions. \nCost for this four-day training with a Microsoft-certified instructor is $2\,000. Once we receive your registration request\, we will contact you to process payment and approve entry into the class. \n\n\nSign Up Now
URL:https://www.boyerassoc.com/event/power-platform-boot-camp/
LOCATION:Online
ATTACH;FMTTYPE=image/png:https://www.boyerassoc.com/wp-content/uploads/2023/01/Power-Platform-Boot-Camp.png
END:VEVENT
BEGIN:VEVENT
DTSTART;TZID=America/Chicago:20231212T100000
DTEND;TZID=America/Chicago:20231212T103000
DTSTAMP:20260425T072653
CREATED:20211112T172320Z
LAST-MODIFIED:20231130T190752Z
UID:10000050-1702375200-1702377000@www.boyerassoc.com
SUMMARY:Dynamics SL Year-End Event
DESCRIPTION:Boyer & Associates’ annual year-end event gives you the tips you need to close out the year quickly and smoothly in your Dynamics SL system. This webinar will discuss:\n– Year-end updates for Accounts Payable and Payroll\n– Year-end troubleshooting tips\n– Dynamics SL roadmap\n– Cloud migration options\nTake advantage of this free educational event and sign up today!\nRegister Now
URL:https://www.boyerassoc.com/event/dynamics-sl-year-end-event/
LOCATION:Online
ATTACH;FMTTYPE=image/png:https://www.boyerassoc.com/wp-content/uploads/2021/11/SL-year-end-2023.png
END:VEVENT
BEGIN:VEVENT
DTSTART;TZID=America/Chicago:20231214T100000
DTEND;TZID=America/Chicago:20231214T113000
DTSTAMP:20260425T072653
CREATED:20231130T191945Z
LAST-MODIFIED:20231130T191946Z
UID:10000071-1702548000-1702553400@www.boyerassoc.com
SUMMARY:Business Central Year-End & What's New
DESCRIPTION:Boyer & Associates’ annual year-end event gives you the tips you need to close out the year quickly and smoothly in Dynamics. This year we’re combining our events on the year-end process with “what’s new” in Business Central. Topics for this two-in-one presentation will include:\n– Best practices for the year-end process\n– New 1099 changes for 2023\n– An inside look at the latest features in Business Central\n– Our favorite tips and tricks to help you work more efficiently\nTake advantage of this free educational event and sign up today! \nRegister Now
URL:https://www.boyerassoc.com/event/business-central-year-end-whats-new/
LOCATION:Online
ATTACH;FMTTYPE=image/png:https://www.boyerassoc.com/wp-content/uploads/2023/11/BC-year-end-and-whats-new.png
END:VEVENT
END:VCALENDAR